BEGIN:VCALENDAR
VERSION:2.0
PRODID:bmdwgvat
BEGIN:VEVENT
UID:bmdwgvat-/Presse/Veranstaltungen/Nationale-Cluster-Konferenz.html
URL:https://www.bmwet.gv.at/Presse/Veranstaltungen/Nationale-Cluster-Konferenz.ics
DTSTAMP:20260421T185951Z
DTSTART:20261012T100000
DTEND:20261012T170000
SUMMARY:Nationale Cluster-Konferenz 2026 am 12. Oktober 2026 in Wien
LOCATION:Marmorsaal im BMWET 1010 Wien, Stubenring 1
DESCRIPTION:Einmal jährlich bietet dieses zentrale Treffen der österreichischen Cluster-Community die Gelegenheit, sich persönlich auszutauschen, voneinander zu lernen und gemeinsam über aktuelle Entwicklungen sowie zukünftige Herausforderungen und Chancen zu diskutieren.\n\n
X-ALT-DESC;FMTTYPE=text/html:<html><head><base href="https://www.bmwet.gv.at"></head><body><p>Einmal jährlich bietet dieses zentrale Treffen der österreichischen Cluster-Community die Gelegenheit, sich persönlich auszutauschen, voneinander zu lernen und gemeinsam über aktuelle Entwicklungen sowie zukünftige Herausforderungen und Chancen zu diskutieren.</p></body></html>
END:VEVENT
END:VCALENDAR